BEGIN:VCALENDAR
PRODID:-//Microsoft Corporation//Outlook 16.0 MIMEDIR//EN
VERSION:2.0
METHOD:PUBLISH
X-MS-OLK-FORCEINSPECTOROPEN:TRUE
BEGIN:VTIMEZONE
TZID:Pacific Standard Time
BEGIN:STANDARD
DTSTART:16011104T020000
RRULE:FREQ=YEARLY;BYDAY=1SU;BYMONTH=11
TZOFFSETFROM:-0700
TZOFFSETTO:-0800
END:STANDARD
BEGIN:DAYLIGHT
DTSTART:16010311T020000
RRULE:FREQ=YEARLY;BYDAY=2SU;BYMONTH=3
TZOFFSETFROM:-0800
TZOFFSETTO:-0700
END:DAYLIGHT
END:VTIMEZONE
BEGIN:VEVENT
CLASS:PUBLIC
CREATED:20241209T203939Z
DESCRIPTION:Where: The Ski Lodge speakeasy next to Superfrico:\nThe Cosmopo
	litan\nLevel 2\, Chelsea Tower\n3708 Las Vegas Blvd\nWhen: Wednesday\, Jan
	uary 8th  |   6:30-8:30pm\n\n
DTEND;TZID="Pacific Standard Time":20250108T203000
DTSTAMP:20241209T203939Z
DTSTART;TZID="Pacific Standard Time":20250108T183000
LAST-MODIFIED:20241209T203939Z
LOCATION:Superfrico (3708 S. Las Vegas Blvd\, Level 2\, Chelsea Tower\, Las
	 Vegas\, NV 89109\, United States)
PRIORITY:5
SEQUENCE:0
SUMMARY;LANGUAGE=en-us:Innovid SkiTV Cocktail Party @ CES [In-person]
TRANSP:OPAQUE
UID:040000008200E00074C5B7101A82E0080000000060094500584ADB01000000000000000
	0100000009804E51765603940BA0BCF56A948574F
X-ALT-DESC;FMTTYPE=text/html:<meta http-equiv="Content-Type" content="text/
	html\; charset=us-ascii"><div class="elementToProof" style="text-align: le
	ft\; text-indent: 0px\; margin: 0px\; font-family: Aptos\, Aptos_EmbeddedF
	ont\, Aptos_MSFontService\, Calibri\, Helvetica\, sans-serif\; font-size: 
	12pt\; color: rgb(0\, 0\, 0)\;"><span style="font-weight: 700\;">Where: Th
	e Ski Lodge speakeasy next to Superfrico:</span></div><div style="directio
	n: ltr\; text-align: left\; text-indent: 0px\; line-height: 1.38\; margin:
	 0pt 0px\; font-family: Aptos\, Aptos_EmbeddedFont\, Aptos_MSFontService\,
	 Calibri\, Helvetica\, sans-serif\; font-size: 12pt\; color: rgb(0\, 0\, 0
	)\;">The Cosmopolitan<br>Level 2\, Chelsea Tower<br>3708 Las Vegas Blvd</d
	iv><div style="direction: ltr\; text-align: left\; text-indent: 0px\; line
	-height: 1.38\; margin: 11pt 0px 0pt\; font-family: Aptos\, Aptos_Embedded
	Font\, Aptos_MSFontService\, Calibri\, Helvetica\, sans-serif\; font-size:
	 12pt\; color: rgb(0\, 0\, 0)\;"><span style="font-weight: 700\;">When: We
	dnesday\, January 8th&nbsp\; | &nbsp\; 6:30-8:30pm</span></div><div class=
	"elementToProof" style="font-family: Aptos\, Aptos_EmbeddedFont\, Aptos_MS
	FontService\, Calibri\, Helvetica\, sans-serif\; font-size: 12pt\; color: 
	rgb(0\, 0\, 0)\;"><br></div>
X-MICROSOFT-CDO-BUSYSTATUS:BUSY
X-MICROSOFT-CDO-IMPORTANCE:1
BEGIN:VALARM
TRIGGER:-PT15M
ACTION:DISPLAY
DESCRIPTION:Reminder
END:VALARM
END:VEVENT
END:VCALENDAR
